BEGIN:VCALENDAR
VERSION:2.0
CALSCALE:GREGORIAN
PRODID:adamgibbons/ics
METHOD:PUBLISH
X-PUBLISHED-TTL:PT1H
BEGIN:VEVENT
UID:9099@calendari.cc
SUMMARY:Taller d'ajuda i presentació: Autodefensa digital
DTSTAMP:20260421T102456Z
DTSTART:20260424T150000Z
DTEND:20260424T180000Z
URL:https://calendari.cc/event/presentacio-taller-dajuda-autodefensa-digita
	l
LOCATION:Las Naves - Av. Joan Verdeguer\, 16\, 46024\, València
STATUS:CONFIRMED
CATEGORIES:GNU/Linux València,install party,programari lliure,taller,xerrad
	a
END:VEVENT
END:VCALENDAR
